BEGIN:VCALENDAR
VERSION:2.0
PRODID:-//hacksw/handcal//NONSGML v1.0//EN
CALSCALE:GREGORIAN
BEGIN:VEVENT
LOCATION:Bodø
DESCRIPTION:Kraftarena 2026 –  vi besøker Stavanger\, Bergen\, Trondheim\, Bodø og Oslo. Velkommen til Kraftarena i Bodø!
DTSTART:20260423T090000Z
DTEND:20260424T210000Z
SUMMARY:Kraftarena Bodø 2026
URL;VALUE=URI:https://no.netnordic.noboxdesign.se/events/kraftarena-bodo-2026/
DTSTAMP:20260423T225109Z
UID:69eaa25deabc1
END:VEVENT
END:VCALENDAR