BEGIN:VCALENDAR
VERSION:2.0
PRODID:-//hacksw/handcal//NONSGML v1.0//EN
CALSCALE:GREGORIAN
BEGIN:VEVENT
LOCATION:Trondheim
DESCRIPTION:Kraftarena 2026 –  vi besøker Stavanger\, Bergen\, Trondheim\, Bodø og Oslo. En regional møteplass for kraftbransjen.
DTSTART:20260421T090000Z
DTEND:20260422T210000Z
SUMMARY:Kraftarena Trondheim 2026
URL;VALUE=URI:https://no.netnordic.noboxdesign.se/events/kraftarena-trondheim-2026-fortinet-nokia/
DTSTAMP:20260423T211321Z
UID:69ea8b7167551
END:VEVENT
END:VCALENDAR