BEGIN:VCALENDAR
VERSION:2.0
PRODID:-//hacksw/handcal//NONSGML v1.0//EN
CALSCALE:GREGORIAN
BEGIN:VEVENT
LOCATION:Bergen  
DESCRIPTION:Kraftarena 2026 –  vi besøker Stavanger\, Bergen\, Trondheim\, Bodø og Oslo.
DTSTART:20260416T090000Z
DTEND:20260417T210000Z
SUMMARY:Kraftarena Bergen 2026
URL;VALUE=URI:https://no.netnordic.noboxdesign.se/events/kraftarena-bergen-2026-nokia-fortinet/
DTSTAMP:20260423T225109Z
UID:69eaa25d5084d
END:VEVENT
END:VCALENDAR