BEGIN:VCALENDAR
VERSION:2.0
PRODID:-//hacksw/handcal//NONSGML v1.0//EN
CALSCALE:GREGORIAN
BEGIN:VEVENT
LOCATION:Online
DESCRIPTION:Et av høydepunktene i dette webinaret er et praktisk caseeksempel hentet fra en reell implementering. Vi vil demonstrere hvordan en intelligent nettverksarkitektur – bygget på Zero Trust-prinsipper\, automatisert sikkerhet og compliance by design – har blitt vellykket implementert i komplekse miljøer.
DTSTART:20260326T080000Z
DTEND:20260326T083000Z
SUMMARY:NetTalk: Det intelligente nettverket
URL;VALUE=URI:https://no.netnordic.noboxdesign.se/events/nettalk-det-intelligente-nettverket-netnordic/
DTSTAMP:20260423T224958Z
UID:69eaa216c93a4
END:VEVENT
END:VCALENDAR