BEGIN:VCALENDAR
VERSION:2.0
PRODID:-//hacksw/handcal//NONSGML v1.0//EN
CALSCALE:GREGORIAN
BEGIN:VEVENT
LOCATION:Webinar
DESCRIPTION:Har du noen gang lurt på hva som egentlig skjer når en SOC oppdager en trussel? I denne episoden løfter sikkerhetsekspertene våre på sløret for hvordan hendelser oppdages\, prioriteres og håndteres i sanntid. Lær hvordan automatisering\, menneskelig ekspertise og dyptgående kundekunnskap jobber sammen for å sikre moderne IT-miljøer døgnet rundt.
DTSTART:20250618T070000Z
DTEND:20250618T073000Z
SUMMARY:SOC Behind Closed Doors: Beyond the Alerts
URL;VALUE=URI:https://no.netnordic.noboxdesign.se/events/soc-behind-closed-doors-beyond-the-alerts/
DTSTAMP:20260423T223156Z
UID:69ea9ddc0f1f0
END:VEVENT
END:VCALENDAR